BEGIN:VCALENDAR
VERSION:2.0
PRODID:-//eventon.com NONSGML v1.0//EN
CALSCALE:GREGORIAN
METHOD:PUBLISH
BEGIN:VEVENT
UID:69e7510c4f082
DTSTAMP:20260421T102724Z
DTSTART:20230322T091500Z
DTEND:20230322T225000Z
LOCATION:Labanque - Béthune 44 Pl. Georges Clèmenceau\,  62400 Béthune
SUMMARY:Baby Baroque - Béthune
DESCRIPTION:Entrée gratuite Réservation au 03 21 63 04 70 10h15 : séance
  pour les 0-18 mois11h : séance pour les 18 mois &#8211; 3 ans Claire Lamq
 uet \,  violoncelle\nhttps://hemiolia.fr/events/baby-baroque/
URL:https://hemiolia.fr/events/baby-baroque/
END:VEVENT
END:VCALENDAR