BEGIN:VCALENDAR
VERSION:2.0
PRODID:-//eventon.com NONSGML v1.0//EN
CALSCALE:GREGORIAN
METHOD:PUBLISH
BEGIN:VEVENT
UID:69e8ab699d8bc
DTSTAMP:20260422T110513Z
DTSTART:20230623T160000Z
DTEND:20230623T215000Z
LOCATION:Médiathèque Le Thotem - Gonnehem 104 Rue de l'Abbé Delepine\,  62920 Gonnehem
SUMMARY:Speed Dating - Gonnehem
DESCRIPTION:Asiz El-Youssoufi : danse urbaineClaire Lamquet : violoncelle G
 ratuit sur réservation: 03 21 57 57 96 Et si la magie de la rencontre n’
 était constituée que de petits riens\,  de moments anodins auxquels nous 
 ne faisons pas forcément attention ? Speed dating est un des programmes pr
 oposé par Hemiolia\nhttps://hemiolia.fr/events/speed-dating-gonnehem/
URL:https://hemiolia.fr/events/speed-dating-gonnehem/
END:VEVENT
END:VCALENDAR