BEGIN:VCALENDAR
VERSION:2.0
PRODID:-//eventon.com NONSGML v1.0//EN
CALSCALE:GREGORIAN
METHOD:PUBLISH
BEGIN:VEVENT
UID:69e4ca5c5a888
DTSTAMP:20260419T122812Z
DTSTART:20241117T150000Z
DTEND:20241117T225900Z
LOCATION:Unité d&#039;Art Sacré de Gosnay - église Saint Léger Rue Achille Châtelet\,  62199 Gosnay
SUMMARY:Quatuors de Mozart avec flûte - Gosnay
DESCRIPTION:Ce programme est le fruit de la rencontre entre le flûtiste de
  renommée internationale Alexis Kossenko et Hemiolia. Il rend hommage à l
 &rsquo;artiste Ladislas Kijno\,  originaire de Noeux-les-Mines\,  qui a ét
 é fortement inspiré par Mozart ainsi que d&rsquo;autres musiciens comme V
 erdi ou Charlie Parker.  En route pour Paris\,  Mozart séjourne[..]\nhttp
 s://hemiolia.fr/events/quatuors-de-mozart-avec-flute-gosnay/
URL:https://hemiolia.fr/events/quatuors-de-mozart-avec-flute-gosnay/
END:VEVENT
END:VCALENDAR