BEGIN:VCALENDAR
VERSION:2.0
PRODID:-//eventon.com NONSGML v1.0//EN
CALSCALE:GREGORIAN
METHOD:PUBLISH
BEGIN:VEVENT
UID:69e4ca4d47871
DTSTAMP:20260419T122757Z
DTSTART:20251116T150000Z
DTEND:20251116T225900Z
LOCATION:Médiathèque de Barlin 5003 Rue Victor Hugo\,  62620 Barlin
SUMMARY:Hana Fubuki - Barlin
DESCRIPTION:Rencontres Musicales en Artois Entrée : 13 euros / gratuit pou
 r les moins de 18 ans\,  les demandeurs d&#8217;emploi et les étudiants Bi
 lletterie à l&rsquo;office du tourisme de Béthune ou directement sur le l
 ieu du concert Direction : Denis Comtet Création de Haru Shionoya Un progr
 amme Hémiolia Choeur Hemiolia Denis[..]\nhttps://hemiolia.fr/events/hana-f
 ubuki-barlin/
URL:https://hemiolia.fr/events/hana-fubuki-barlin/
END:VEVENT
END:VCALENDAR